BEGIN:VCALENDAR
VERSION:2.0
PRODID:-//Bodersweier - ECPv6.15.20//NONSGML v1.0//EN
CALSCALE:GREGORIAN
METHOD:PUBLISH
X-ORIGINAL-URL:https://www.bodersweier.de
X-WR-CALDESC:Veranstaltungen für Bodersweier
REFRESH-INTERVAL;VALUE=DURATION:PT1H
X-Robots-Tag:noindex
X-PUBLISHED-TTL:PT1H
BEGIN:VTIMEZONE
TZID:Europe/Berlin
BEGIN:DAYLIGHT
TZOFFSETFROM:+0100
TZOFFSETTO:+0200
TZNAME:CEST
DTSTART:20250330T010000
END:DAYLIGHT
BEGIN:STANDARD
TZOFFSETFROM:+0200
TZOFFSETTO:+0100
TZNAME:CET
DTSTART:20251026T010000
END:STANDARD
BEGIN:DAYLIGHT
TZOFFSETFROM:+0100
TZOFFSETTO:+0200
TZNAME:CEST
DTSTART:20260329T010000
END:DAYLIGHT
BEGIN:STANDARD
TZOFFSETFROM:+0200
TZOFFSETTO:+0100
TZNAME:CET
DTSTART:20261025T010000
END:STANDARD
BEGIN:DAYLIGHT
TZOFFSETFROM:+0100
TZOFFSETTO:+0200
TZNAME:CEST
DTSTART:20270328T010000
END:DAYLIGHT
BEGIN:STANDARD
TZOFFSETFROM:+0200
TZOFFSETTO:+0100
TZNAME:CET
DTSTART:20271031T010000
END:STANDARD
END:VTIMEZONE
BEGIN:VEVENT
DTSTART;VALUE=DATE:20261202
DTEND;VALUE=DATE:20261203
DTSTAMP:20260424T184638
CREATED:20260330T141916Z
LAST-MODIFIED:20260330T141916Z
UID:733-1796169600-1796255999@www.bodersweier.de
SUMMARY:Grüne Tonne
DESCRIPTION:
URL:https://www.bodersweier.de/termin/gruene-tonne-29/
LOCATION:Bodersweier
CATEGORIES:Müllabfuhr
ORGANIZER;CN="Eigenbetrieb Abfallwirtschaft Ortenaukreis":MAILTO:abfallwirtschaft@ortenaukreis.de
END:VEVENT
BEGIN:VEVENT
DTSTART;VALUE=DATE:20261209
DTEND;VALUE=DATE:20261210
DTSTAMP:20260424T184638
CREATED:20260330T142546Z
LAST-MODIFIED:20260330T142546Z
UID:759-1796774400-1796860799@www.bodersweier.de
SUMMARY:Graue Tonne und Gelber Sack
DESCRIPTION:
URL:https://www.bodersweier.de/termin/graue-tonne-und-gelber-sack-48/
LOCATION:Bodersweier
CATEGORIES:Müllabfuhr
ORGANIZER;CN="Eigenbetrieb Abfallwirtschaft Ortenaukreis":MAILTO:abfallwirtschaft@ortenaukreis.de
END:VEVENT
BEGIN:VEVENT
DTSTART;VALUE=DATE:20261222
DTEND;VALUE=DATE:20261223
DTSTAMP:20260424T184638
CREATED:20260330T142546Z
LAST-MODIFIED:20260330T142546Z
UID:760-1797897600-1797983999@www.bodersweier.de
SUMMARY:Graue Tonne und Gelber Sack
DESCRIPTION:
URL:https://www.bodersweier.de/termin/graue-tonne-und-gelber-sack-49/
LOCATION:Bodersweier
CATEGORIES:Müllabfuhr
ORGANIZER;CN="Eigenbetrieb Abfallwirtschaft Ortenaukreis":MAILTO:abfallwirtschaft@ortenaukreis.de
END:VEVENT
BEGIN:VEVENT
DTSTART;VALUE=DATE:20261230
DTEND;VALUE=DATE:20261231
DTSTAMP:20260424T184638
CREATED:20260330T141916Z
LAST-MODIFIED:20260330T141916Z
UID:734-1798588800-1798675199@www.bodersweier.de
SUMMARY:Grüne Tonne
DESCRIPTION:
URL:https://www.bodersweier.de/termin/gruene-tonne-30/
LOCATION:Bodersweier
CATEGORIES:Müllabfuhr
ORGANIZER;CN="Eigenbetrieb Abfallwirtschaft Ortenaukreis":MAILTO:abfallwirtschaft@ortenaukreis.de
END:VEVENT
END:VCALENDAR