BEGIN:VCALENDAR
VERSION:2.0
PRODID:-//Bodersweier - ECPv6.15.20//NONSGML v1.0//EN
CALSCALE:GREGORIAN
METHOD:PUBLISH
X-WR-CALNAME:Bodersweier
X-ORIGINAL-URL:https://www.bodersweier.de
X-WR-CALDESC:Veranstaltungen für Bodersweier
REFRESH-INTERVAL;VALUE=DURATION:PT1H
X-Robots-Tag:noindex
X-PUBLISHED-TTL:PT1H
BEGIN:VTIMEZONE
TZID:Europe/Berlin
BEGIN:DAYLIGHT
TZOFFSETFROM:+0100
TZOFFSETTO:+0200
TZNAME:CEST
DTSTART:20250330T010000
END:DAYLIGHT
BEGIN:STANDARD
TZOFFSETFROM:+0200
TZOFFSETTO:+0100
TZNAME:CET
DTSTART:20251026T010000
END:STANDARD
BEGIN:DAYLIGHT
TZOFFSETFROM:+0100
TZOFFSETTO:+0200
TZNAME:CEST
DTSTART:20260329T010000
END:DAYLIGHT
BEGIN:STANDARD
TZOFFSETFROM:+0200
TZOFFSETTO:+0100
TZNAME:CET
DTSTART:20261025T010000
END:STANDARD
BEGIN:DAYLIGHT
TZOFFSETFROM:+0100
TZOFFSETTO:+0200
TZNAME:CEST
DTSTART:20270328T010000
END:DAYLIGHT
BEGIN:STANDARD
TZOFFSETFROM:+0200
TZOFFSETTO:+0100
TZNAME:CET
DTSTART:20271031T010000
END:STANDARD
END:VTIMEZONE
BEGIN:VEVENT
DTSTART;VALUE=DATE:20261104
DTEND;VALUE=DATE:20261105
DTSTAMP:20260424T171542
CREATED:20260330T141916Z
LAST-MODIFIED:20260330T141916Z
UID:732-1793750400-1793836799@www.bodersweier.de
SUMMARY:Grüne Tonne
DESCRIPTION:
URL:https://www.bodersweier.de/termin/gruene-tonne-28/
LOCATION:Bodersweier
CATEGORIES:Müllabfuhr
ORGANIZER;CN="Eigenbetrieb Abfallwirtschaft Ortenaukreis":MAILTO:abfallwirtschaft@ortenaukreis.de
END:VEVENT
BEGIN:VEVENT
DTSTART;VALUE=DATE:20261111
DTEND;VALUE=DATE:20261112
DTSTAMP:20260424T171542
CREATED:20260330T142546Z
LAST-MODIFIED:20260330T142546Z
UID:757-1794355200-1794441599@www.bodersweier.de
SUMMARY:Graue Tonne und Gelber Sack
DESCRIPTION:
URL:https://www.bodersweier.de/termin/graue-tonne-und-gelber-sack-46/
LOCATION:Bodersweier
CATEGORIES:Müllabfuhr
ORGANIZER;CN="Eigenbetrieb Abfallwirtschaft Ortenaukreis":MAILTO:abfallwirtschaft@ortenaukreis.de
END:VEVENT
BEGIN:VEVENT
DTSTART;VALUE=DATE:20261125
DTEND;VALUE=DATE:20261126
DTSTAMP:20260424T171542
CREATED:20260330T142546Z
LAST-MODIFIED:20260330T142546Z
UID:758-1795564800-1795651199@www.bodersweier.de
SUMMARY:Graue Tonne und Gelber Sack
DESCRIPTION:
URL:https://www.bodersweier.de/termin/graue-tonne-und-gelber-sack-47/
LOCATION:Bodersweier
CATEGORIES:Müllabfuhr
ORGANIZER;CN="Eigenbetrieb Abfallwirtschaft Ortenaukreis":MAILTO:abfallwirtschaft@ortenaukreis.de
END:VEVENT
END:VCALENDAR