BEGIN:VCALENDAR
VERSION:2.0
PRODID:-//Bodersweier - ECPv6.15.20//NONSGML v1.0//EN
CALSCALE:GREGORIAN
METHOD:PUBLISH
X-WR-CALNAME:Bodersweier
X-ORIGINAL-URL:https://www.bodersweier.de
X-WR-CALDESC:Veranstaltungen für Bodersweier
REFRESH-INTERVAL;VALUE=DURATION:PT1H
X-Robots-Tag:noindex
X-PUBLISHED-TTL:PT1H
BEGIN:VTIMEZONE
TZID:Europe/Berlin
BEGIN:DAYLIGHT
TZOFFSETFROM:+0100
TZOFFSETTO:+0200
TZNAME:CEST
DTSTART:20250330T010000
END:DAYLIGHT
BEGIN:STANDARD
TZOFFSETFROM:+0200
TZOFFSETTO:+0100
TZNAME:CET
DTSTART:20251026T010000
END:STANDARD
BEGIN:DAYLIGHT
TZOFFSETFROM:+0100
TZOFFSETTO:+0200
TZNAME:CEST
DTSTART:20260329T010000
END:DAYLIGHT
BEGIN:STANDARD
TZOFFSETFROM:+0200
TZOFFSETTO:+0100
TZNAME:CET
DTSTART:20261025T010000
END:STANDARD
BEGIN:DAYLIGHT
TZOFFSETFROM:+0100
TZOFFSETTO:+0200
TZNAME:CEST
DTSTART:20270328T010000
END:DAYLIGHT
BEGIN:STANDARD
TZOFFSETFROM:+0200
TZOFFSETTO:+0100
TZNAME:CET
DTSTART:20271031T010000
END:STANDARD
END:VTIMEZONE
BEGIN:VEVENT
DTSTART;VALUE=DATE:20261007
DTEND;VALUE=DATE:20261008
DTSTAMP:20260424T153654
CREATED:20260330T141916Z
LAST-MODIFIED:20260330T141916Z
UID:731-1791331200-1791417599@www.bodersweier.de
SUMMARY:Grüne Tonne
DESCRIPTION:
URL:https://www.bodersweier.de/termin/gruene-tonne-27/
LOCATION:Bodersweier
CATEGORIES:Müllabfuhr
ORGANIZER;CN="Eigenbetrieb Abfallwirtschaft Ortenaukreis":MAILTO:abfallwirtschaft@ortenaukreis.de
END:VEVENT
BEGIN:VEVENT
DTSTART;VALUE=DATE:20261014
DTEND;VALUE=DATE:20261015
DTSTAMP:20260424T153654
CREATED:20260330T142346Z
LAST-MODIFIED:20260330T142346Z
UID:755-1791936000-1792022399@www.bodersweier.de
SUMMARY:Graue Tonne und Gelber Sack
DESCRIPTION:
URL:https://www.bodersweier.de/termin/graue-tonne-und-gelber-sack-44/
LOCATION:Bodersweier
CATEGORIES:Müllabfuhr
ORGANIZER;CN="Eigenbetrieb Abfallwirtschaft Ortenaukreis":MAILTO:abfallwirtschaft@ortenaukreis.de
END:VEVENT
BEGIN:VEVENT
DTSTART;VALUE=DATE:20261028
DTEND;VALUE=DATE:20261029
DTSTAMP:20260424T153654
CREATED:20260330T142546Z
LAST-MODIFIED:20260330T142546Z
UID:756-1793145600-1793231999@www.bodersweier.de
SUMMARY:Graue Tonne und Gelber Sack
DESCRIPTION:
URL:https://www.bodersweier.de/termin/graue-tonne-und-gelber-sack-45/
LOCATION:Bodersweier
CATEGORIES:Müllabfuhr
ORGANIZER;CN="Eigenbetrieb Abfallwirtschaft Ortenaukreis":MAILTO:abfallwirtschaft@ortenaukreis.de
END:VEVENT
END:VCALENDAR