BEGIN:VCALENDAR
VERSION:2.0
PRODID:-//Bodersweier - ECPv6.15.20//NONSGML v1.0//EN
CALSCALE:GREGORIAN
METHOD:PUBLISH
X-WR-CALNAME:Bodersweier
X-ORIGINAL-URL:https://www.bodersweier.de
X-WR-CALDESC:Veranstaltungen für Bodersweier
REFRESH-INTERVAL;VALUE=DURATION:PT1H
X-Robots-Tag:noindex
X-PUBLISHED-TTL:PT1H
BEGIN:VTIMEZONE
TZID:Europe/Berlin
BEGIN:DAYLIGHT
TZOFFSETFROM:+0100
TZOFFSETTO:+0200
TZNAME:CEST
DTSTART:20250330T010000
END:DAYLIGHT
BEGIN:STANDARD
TZOFFSETFROM:+0200
TZOFFSETTO:+0100
TZNAME:CET
DTSTART:20251026T010000
END:STANDARD
BEGIN:DAYLIGHT
TZOFFSETFROM:+0100
TZOFFSETTO:+0200
TZNAME:CEST
DTSTART:20260329T010000
END:DAYLIGHT
BEGIN:STANDARD
TZOFFSETFROM:+0200
TZOFFSETTO:+0100
TZNAME:CET
DTSTART:20261025T010000
END:STANDARD
BEGIN:DAYLIGHT
TZOFFSETFROM:+0100
TZOFFSETTO:+0200
TZNAME:CEST
DTSTART:20270328T010000
END:DAYLIGHT
BEGIN:STANDARD
TZOFFSETFROM:+0200
TZOFFSETTO:+0100
TZNAME:CET
DTSTART:20271031T010000
END:STANDARD
END:VTIMEZONE
BEGIN:VEVENT
DTSTART;VALUE=DATE:20260902
DTEND;VALUE=DATE:20260903
DTSTAMP:20260424T140751
CREATED:20260330T142346Z
LAST-MODIFIED:20260330T142346Z
UID:752-1788307200-1788393599@www.bodersweier.de
SUMMARY:Graue Tonne und Gelber Sack
DESCRIPTION:
URL:https://www.bodersweier.de/termin/graue-tonne-und-gelber-sack-41/
LOCATION:Bodersweier
CATEGORIES:Müllabfuhr
ORGANIZER;CN="Eigenbetrieb Abfallwirtschaft Ortenaukreis":MAILTO:abfallwirtschaft@ortenaukreis.de
END:VEVENT
BEGIN:VEVENT
DTSTART;VALUE=DATE:20260909
DTEND;VALUE=DATE:20260910
DTSTAMP:20260424T140751
CREATED:20260330T141901Z
LAST-MODIFIED:20260330T141901Z
UID:725-1788912000-1788998399@www.bodersweier.de
SUMMARY:Grüne Tonne
DESCRIPTION:
URL:https://www.bodersweier.de/termin/gruene-tonne-26/
LOCATION:Bodersweier
CATEGORIES:Müllabfuhr
ORGANIZER;CN="Eigenbetrieb Abfallwirtschaft Ortenaukreis":MAILTO:abfallwirtschaft@ortenaukreis.de
END:VEVENT
BEGIN:VEVENT
DTSTART;VALUE=DATE:20260916
DTEND;VALUE=DATE:20260917
DTSTAMP:20260424T140751
CREATED:20260330T142346Z
LAST-MODIFIED:20260330T142346Z
UID:753-1789516800-1789603199@www.bodersweier.de
SUMMARY:Graue Tonne und Gelber Sack
DESCRIPTION:
URL:https://www.bodersweier.de/termin/graue-tonne-und-gelber-sack-42/
LOCATION:Bodersweier
CATEGORIES:Müllabfuhr
ORGANIZER;CN="Eigenbetrieb Abfallwirtschaft Ortenaukreis":MAILTO:abfallwirtschaft@ortenaukreis.de
END:VEVENT
BEGIN:VEVENT
DTSTART;VALUE=DATE:20260930
DTEND;VALUE=DATE:20261001
DTSTAMP:20260424T140751
CREATED:20260330T142346Z
LAST-MODIFIED:20260330T142346Z
UID:754-1790726400-1790812799@www.bodersweier.de
SUMMARY:Graue Tonne und Gelber Sack
DESCRIPTION:
URL:https://www.bodersweier.de/termin/graue-tonne-und-gelber-sack-43/
LOCATION:Bodersweier
CATEGORIES:Müllabfuhr
ORGANIZER;CN="Eigenbetrieb Abfallwirtschaft Ortenaukreis":MAILTO:abfallwirtschaft@ortenaukreis.de
END:VEVENT
END:VCALENDAR