BEGIN:VCALENDAR
VERSION:2.0
PRODID:-//Bodersweier - ECPv6.15.20//NONSGML v1.0//EN
CALSCALE:GREGORIAN
METHOD:PUBLISH
X-ORIGINAL-URL:https://www.bodersweier.de
X-WR-CALDESC:Veranstaltungen für Bodersweier
REFRESH-INTERVAL;VALUE=DURATION:PT1H
X-Robots-Tag:noindex
X-PUBLISHED-TTL:PT1H
BEGIN:VTIMEZONE
TZID:Europe/Berlin
BEGIN:DAYLIGHT
TZOFFSETFROM:+0100
TZOFFSETTO:+0200
TZNAME:CEST
DTSTART:20250330T010000
END:DAYLIGHT
BEGIN:STANDARD
TZOFFSETFROM:+0200
TZOFFSETTO:+0100
TZNAME:CET
DTSTART:20251026T010000
END:STANDARD
BEGIN:DAYLIGHT
TZOFFSETFROM:+0100
TZOFFSETTO:+0200
TZNAME:CEST
DTSTART:20260329T010000
END:DAYLIGHT
BEGIN:STANDARD
TZOFFSETFROM:+0200
TZOFFSETTO:+0100
TZNAME:CET
DTSTART:20261025T010000
END:STANDARD
BEGIN:DAYLIGHT
TZOFFSETFROM:+0100
TZOFFSETTO:+0200
TZNAME:CEST
DTSTART:20270328T010000
END:DAYLIGHT
BEGIN:STANDARD
TZOFFSETFROM:+0200
TZOFFSETTO:+0100
TZNAME:CET
DTSTART:20271031T010000
END:STANDARD
END:VTIMEZONE
BEGIN:VEVENT
DTSTART;VALUE=DATE:20260708
DTEND;VALUE=DATE:20260709
DTSTAMP:20260420T095719
CREATED:20260330T142146Z
LAST-MODIFIED:20260330T142146Z
UID:748-1783468800-1783555199@www.bodersweier.de
SUMMARY:Graue Tonne und Gelber Sack
DESCRIPTION:
URL:https://www.bodersweier.de/termin/graue-tonne-und-gelber-sack-37/
LOCATION:Bodersweier
CATEGORIES:Müllabfuhr
ORGANIZER;CN="Eigenbetrieb Abfallwirtschaft Ortenaukreis":MAILTO:abfallwirtschaft@ortenaukreis.de
END:VEVENT
BEGIN:VEVENT
DTSTART;VALUE=DATE:20260715
DTEND;VALUE=DATE:20260716
DTSTAMP:20260420T095719
CREATED:20260330T141901Z
LAST-MODIFIED:20260330T141901Z
UID:723-1784073600-1784159999@www.bodersweier.de
SUMMARY:Grüne Tonne
DESCRIPTION:
URL:https://www.bodersweier.de/termin/gruene-tonne-24/
LOCATION:Bodersweier
CATEGORIES:Müllabfuhr
ORGANIZER;CN="Eigenbetrieb Abfallwirtschaft Ortenaukreis":MAILTO:abfallwirtschaft@ortenaukreis.de
END:VEVENT
BEGIN:VEVENT
DTSTART;VALUE=DATE:20260722
DTEND;VALUE=DATE:20260723
DTSTAMP:20260420T095719
CREATED:20260330T142146Z
LAST-MODIFIED:20260330T142146Z
UID:749-1784678400-1784764799@www.bodersweier.de
SUMMARY:Graue Tonne und Gelber Sack
DESCRIPTION:
URL:https://www.bodersweier.de/termin/graue-tonne-und-gelber-sack-38/
LOCATION:Bodersweier
CATEGORIES:Müllabfuhr
ORGANIZER;CN="Eigenbetrieb Abfallwirtschaft Ortenaukreis":MAILTO:abfallwirtschaft@ortenaukreis.de
END:VEVENT
END:VCALENDAR